{"text_format":"1","workbook":"xlsx","n_sheets":7,"sheets":["Liste variables","Paramètres - Données - Calculs","Mr=f(theta, Sr)","Granulométrie","Module complexe - Enrobé","Mr=f(profondeur fondation)","Feuil3"],"not_rendered":{"charts":12,"images":2,"macros":1,"external_links":0,"defined_names":42,"comments":1,"pivot_tables":0},"unopened":[{"sheet":"Mr=f(theta, Sr)","index":2,"reason":"not_a_worksheet"},{"sheet":"Granulométrie","index":3,"reason":"not_a_worksheet"},{"sheet":"Module complexe - Enrobé","index":4,"reason":"not_a_worksheet"},{"sheet":"Mr=f(profondeur fondation)","index":5,"reason":"not_a_worksheet"}],"bounds":{"document_bytes":16777216,"sheet_cells":100000,"rows_first":2000,"rows_last":500,"rows_between":2000,"halvings":0,"cell_chars":16384,"cell_head_chars":4096},"cells_cut":0,"cells_raw":0,"read":"whole","date_system":"1900"}

{"sheet":"Liste variables","index":0,"n_rows":40,"n_cols":7,"rows_kept":40,"cut":false,"hidden":false,"merged":[]}
["Liste des variables"]
[]
["Variable",null,"Description",null,null,null,"Unités"]
["wopt",null,"Teneur en eau optimale",null,null,null,"%"]
["ρdmax ",null,"Masse volumique sèche maximale",null,null,null,"kg/m³"]
["ρs (>5 mm)",null,"Masse volumique des grains > 5 mm",null,null,null,"kg/m³"]
["ρs (<5 mm)",null,"Masse volumique des grains < 5 mm",null,null,null,"kg/m³"]
["Abs (>5 mm)",null,"Absorption des grains > 5 mm",null,null,null,"%"]
["Abs (<5 mm)",null,"Absorption des grains < 5 mm",null,null,null,"%"]
["Classe PG",null,"Classe de performance du bitume"]
["Tair",null,"Température de l'air",null,null,null,"°C"]
["Poids",null,"Poids sur la plaque de chargement",null,null,null,"kN"]
["Rayon",null,"Rayon de la plaque de chargement",null,null,null,"mm"]
["Vitesse",null,"Vitesse de circulation des véhicules",null,null,null,"km/h"]
["Cu",null,"Coefficient d'uniformité"]
["%F",null,"Pourcentage de particules fines",null,null,null,"%"]
["ρs",null,"Masse volumique des grains combinés",null,null,null,"kg/m³"]
["abs",null,"Absorption des grains combinés",null,null,null,"%"]
["n ",null,"Porosité",null,null,null,"%"]
["nf",null,"Porosité de la fraction fine",null,null,null,"%"]
["nc",null,"Porosité de la fraction grossière",null,null,null,"%"]
["wsat",null,"Teneur en eau saturée",null,null,null,"%"]
["c1s",null,"Paramètre du modèle linéaire (état saturé)",null,null,null,"MPa/kPa"]
["c2s",null,"Paramètre du modèle linéaire (état saturé)",null,null,null,"MPa"]
["Sr évalué",null,"Degré de saturation évalué",null,null,null,"%"]
["Mr",null,"Module réversible",null,null,null,"MPa"]
["Tenrobé (°C)",null,"Température dans l'enrobé",null,null,null,"°C"]
["Fréq. (hz)",null,"Fréquence de sollicitation de l'enrobé",null,null,null,"Hz"]
["δ",null,"Paramètre du modèle de Witczak (enrobé)"]
["α",null,"Paramètre du modèle de Witczak (enrobé)"]
["β",null,"Paramètre du modèle de Witczak (enrobé)"]
["Log fr",null,"Paramètre du modèle de Witczak (enrobé)"]
["γ",null,"Paramètre du modèle de Witczak (enrobé)"]
["a1",null,"Paramètre du modèle de Witczak (enrobé)"]
["a2",null,"Paramètre du modèle de Witczak (enrobé)"]
["Log at",null,"Paramètre du modèle de Witczak (enrobé)"]
["E",null,"Module ",null,null,null,"MPa"]
["H",null,"Épaisseur ",null,null,null,"mm"]
["μ",null,"Coefficient de Poisson"]
["θ",null,"Contrainte totale",null,null,null,"kPa"]

{"sheet":"Paramètres - Données - Calculs","index":1,"n_rows":34,"n_cols":73,"rows_kept":34,"cut":false,"hidden":false,"merged":[[0,9,0,11],[0,13,0,16],[31,6,33,6],[29,4,30,4],[29,5,30,5],[29,6,30,6],[29,7,30,7]]}
["i3CMr - Estimation du module réversible - MG20",null,null,null,null,null,null,null,null,"Données à entrer",null,null,null,"Données calculées",null,null,null,null,"Mode d'emploi"]
[]
["Granulométrie",null,"Données Proctor",null,null,"Paramètres d'entrée"]
["Diamètre","Passant","wopt",5,"%","Cu",{"$f":"Feuil3!$B$28/Feuil3!$D$28","v":41.140571924159161}]
["(mm)","(%)","ρdmax ",2100,"kg/m³","%F",{"$f":"$B$18","v":4.5},"%"]
[56,100,"Densité et absorption des grains",null,null,"ρdmax",{"$f":"$D$5","v":2100},"kg/m³"]
[40,100,"ρs (>5 mm)",2650,"kg/m³","ρs",{"$f":"((100-$B$12)+$B$12)/(((100-$B$12)/$D$7)+(($B$12)/$D$8))","v":2673.5170481083605},"kg/m³"]
[31.5,100,"ρs (<5 mm)",2700,"kg/m³","abs",{"$f":"((100-$B$12)/100)*$D$9+($B$12/100)*$D$10","v":0.73750000000000004},"%",null,null,null,null,null,null,null,null,null,null,null,null,null,null,null,null,null,null,null,null,null,null,null,null,null,null,null,null,null,null,null,null,null,null,null,null,null,null,null,null,null,null,null,null,null,null,null,null,null,null,null,null,null,null,null,null,null,null,null,null,null,null,null,null,"Succion"]
[20,95,"Abs (>5 mm)",0.5,"%","n ",{"$f":"(1-($D$5/$G$7))*100","v":21.451781970649897},"%",null,null,null,null,null,null,null,null,null,null,null,null,null,null,null,null,null,null,null,null,null,null,null,null,null,null,null,null,null,null,null,null,null,null,null,null,null,null,null,null,null,null,null,null,null,null,null,null,null,null,null,null,null,null,null,null,null,null,null,null,null,null,null,null,"Pente S"]
[14,80.5,"Abs (<5 mm)",1,"%","nf",{"$f":"(($G$9/100)/(($G$9/100)+(1-($G$9/100))*($G$5/100)))*100","v":85.853654443760405},"%"]
[10,67,"Enrobé",null,null,"nc",{"$f":"(($G$9/100)+(1-($G$9/100))*($G$5/100))*100","v":24.986451781970651},"%"]
[5,47.5,"Classe PG","58-34",null,"wsat",{"$f":"(((1*($G$7/$D$5-1))/($G$7/1000))+$G$8/100)*100","v":10.952634271738043},"%"]
[2.5,37,"Tair",26,"°C","Fondation"]
[1.25,28.5,"Épaisseur ",100,"mm","Épaisseur",250,"mm"]
[0.63,20,"Charge",null,null,"c1s",{"$f":"-6.259-0.508*($G$4/$G$10)+7.725*($D$5/$D$5)-0.107*$G$12+0.168*$D$4","v":0.89063748721793035}]
[0.315,13,"Poids",50,"kN","c2s",{"$f":"879.476+$G$9*(14.353+0.00557*$G$7)-0.557*$G$7-6.213*$G$11+0.253*$D$5-27.533*$G$12","v":92.173722299590622},"MPa",null,null,null,null,null,null,null,null,null,null,null,null,null,null,null,null,null,null,0]
[0.16,9,"Rayon",150,"mm","Sr évalué",30,"%",null,null,null,null,null,null,null,null,null,null,null,null,null,null,null,null,null,null,0]
[0.08,4.5,"Vitesse",30,"km/h","Effet Sr","Pente S",null,null,null,null,null,null,null,null,null,null,null,null,null,null,null,null,null,null,null,0]
["Calculs enrobé",null,null,null,"Contrainte - Fondation",null,null,null,null,null,null,null,null,null,null,null,null,null,null,null,null,null,null,null,null,null,0]
["Valeurs entrée - Modèle Witczak",null,null,null,"Prof. (mm)","θ (kPa)",null,null,null,null,null,null,null,null,null,null,null,null,null,null,null,null,null,null,null,null,0]
["Tenrobé (°C)",{"$f":"Feuil3!$V$15","v":34.018445322793156},"Fréq. (hz)",{"$f":"Feuil3!$V$17","v":16.666664460864002},{"$f":"Feuil3!AA17","v":25},{"$f":"Feuil3!AG27","v":502.63621734424919},null,null,null,null,null,null,null,null,null,null,null,null,null,null,null,null,null,null,null,null,0]
["δ",{"$f":"Feuil3!$O$23","v":0.215},"γ",{"$f":"Feuil3!$R$23","v":-0.39800000000000002},{"$f":"Feuil3!AA18","v":75},{"$f":"Feuil3!AG28","v":335.54682057943654},null,null,null,null,null,null,null,null,null,null,null,null,null,null,null,null,null,null,null,null,0]
["α",{"$f":"Feuil3!$P$23","v":4.29},"a1",{"$f":"Feuil3!$S$23","v":-0.14599999999999999},{"$f":"Feuil3!AA19","v":125},{"$f":"Feuil3!AG29","v":239.34049265974713}]
["β",{"$f":"Feuil3!$Q$23","v":-1.32},"a2",{"$f":"Feuil3!$T$23","v":7.9500000000000003E-4},{"$f":"Feuil3!AA20","v":175},{"$f":"Feuil3!AG30","v":180.5827071088377}]
["Log fr",{"$f":"Feuil3!$V$19","v":-1.82622018098894},"Log at",{"$f":"Feuil3!$V$21","v":-3.048068873127217},{"$f":"Feuil3!AA21","v":225},{"$f":"Feuil3!AG31","v":142.83400402878584}]
[]
["Durée de vie en fatigue estimée (MÉCAS)",null,null,null,null,{"$f":"Feuil3!$AA$50","v":5.8603972623887941}]
[]
[null,null,null,null,null,"H (mm)","E (Mpa)","μ"]
[null,null,null,null,"EB ",{"$f":"$D$14","v":100},{"$f":"Feuil3!$O$25","v":950.93279921608666},{"$f":"Feuil3!$O$47","v":0.35}]
[]
[null,null,null,null,null,null,{"$f":"Feuil3!$AC$12","v":337.09236189065768}]
[null,null,null,null,"MG20",{"$f":"$G$14","v":250},null,0.35]
[null,null,null,null,null,null,null,null,null,null,"Autre information (MPa) :","Mr ⅓ couche =",{"$f":"Feuil3!AJ6","v":413.17430479584493},"Mr moy. =",{"$f":"AVERAGE(Feuil3!AH26:AH32)","v":394.51153386839934},"Écart-T. =",{"$f":"STDEV(Feuil3!AH26:AH32)","v":164.75908545891545},"Convergence =",{"$f":"Feuil3!$AI$33","v":1.4783314152062439E-4}]

{"sheet":"Feuil3","index":6,"n_rows":144,"n_cols":40,"rows_kept":144,"cut":false,"hidden":true,"merged":[]}
["Succion matricielle (Doucet et Doré 2004)",null,null,null,null,null,null,null,null,null,null,null,null,null,null,null,null,null,null,null,null,null,null,null,null,null,null,null,null,null,null,null,null,null,null,null,null,null,null,-35]
["Pente S (Bilodeau 2009)",null,null,null,null,null,null,null,null,null,null,null,null,null,null,null,null,null,null,null,null,null,null,null,null,null,null,null,null,null,null,null,null,null,null,null,null,null,null,{"$f":"AN1+1","v":-34}]
[null,null,null,null,null,null,null,null,null,null,null,null,null,null,null,null,null,null,null,null,null,null,null,null,null,null,null,null,null,null,null,null,null,null,null,null,null,null,null,{"$f":"AN2+1","v":-33}]
[null,null,null,null,null,null,null,null,null,null,null,null,null,null,null,null,null,null,null,null,null,null,null,null,null,null,null,null,null,null,null,null,null,null,null,null,null,null,null,-32]
[null,null,null,null,null,null,null,null,null,null,null,null,null,null,null,null,null,null,null,null,null,null,null,null,null,null,null,null,null,null,null,null,null,null,null,null,null,null,null,-31]
["Choix Methode effet saturation",null,null,null,null,null,null,null,null,null,null,null,null,null,null,null,null,null,null,null,null,null,null,null,null,null,null,null,null,null,null,null,null,null,"Mr ⅓ couche =",{"$f":"AM23","v":413.17430479584493},"MPa",null,null,-30]
[{"$f":"'Paramètres - Données - Calculs'!$G$18","v":"Pente S"},null,null,null,null,null,null,null,null,null,null,null,null,null,null,null,null,null,null,null,null,null,null,null,null,null,null,null,null,null,null,null,null,null,"Mr ½ couche =",{"$f":"AF19","v":337.09270413628161},"MPa",null,null,-29]
[null,null,null,null,null,"Calculs S",null,null,null,null,null,null,null,null,null,null,null,null,null,null,null,null,null,null,null,null,null,null,null,null,null,null,null,null,"Mr moyen =",{"$f":"AVERAGE(AF16:AF22)","v":394.51153386839934},"MPa",null,null,-28]
[null,null,null,null,null,null,null,null,null,null,"Sr d'évaluation",null,null,null,null,null,null,null,null,null,null,null,null,null,null,null,null,null,null,null,null,null,null,null,"Écart-Type Mr =",{"$f":"STDEV(AF16:AF22)","v":164.75908545891545},"MPa",null,null,-27]
[null,null,null,null,null,null,null,null,"Sropt",null,"Sr=","w_eval",null,null,null,null,null,null,null,null,null,null,null,"rh Fond",null,null,null,"H (mm)","Mr","μ",null,null,null,null,null,null,null,null,null,-26]
[null,null,null,null,null,null,null,null,{"$f":"('Paramètres - Données - Calculs'!$D$4-'Paramètres - Données - Calculs'!$G$8)*('Paramètres - Données - Calculs'!$G$7/1000)/('Paramètres - Données - Calculs'!$G$7/'Paramètres - Données - Calculs'!$D$5-1)","v":41.727302711947239},20,{"$f":"'Paramètres - Données - Calculs'!$G$17","v":30},{"$f":"($K$11*('Paramètres - Données - Calculs'!$G$9/100))/((1-('Paramètres - Données - Calculs'!$G$9/100))*('Paramètres - Données - Calculs'!$G$7/1000))+'Paramètres - Données - Calculs'!$G$8","v":3.802040281521414},null,null,null,null,null,null,null,null,null,null,null,{"$f":"'Paramètres - Données - Calculs'!$D$5*(1+($L$11/100))","v":2179.84284591195},null,null,"EB",{"$f":"'Paramètres - Données - Calculs'!$D$14","v":100},{"$f":"$O$25","v":950.93279921608666},{"$f":"'Paramètres - Données - Calculs'!$H$30","v":0.35},null,null,null,null,"Mr=f(prof.) à Sr évalué",null,null,null,null,-25]
["Calculs Cu",null,null,null,null,"S","Vecteur Contrainte totale","Mr sat","Mropt","Mr20","Mr Utilisateur",null,null,"Enrobés Bitumineux",null,null,null,null,null,null,null,null,null,null,null,null,"F",{"$f":"'Paramètres - Données - Calculs'!$F$33","v":250},{"$f":"AC19","v":337.09236189065768},{"$f":"'Paramètres - Données - Calculs'!$H$33","v":0.35},null,null,null,null,null,null,null,null,null,-24]
[null,null,null,null,null,{"$f":"(0.00003*G13+0.0206)*('Paramètres - Données - Calculs'!$G$10-113.636)+0.31818","v":-0.33748335512725436},100,{"$f":"'Paramètres - Données - Calculs'!$G$15*G13+'Paramètres - Données - Calculs'!$G$16","v":181.23747102138367},{"$f":"IF($A$7=\"Succion\",$H13+((-8700)*($E$38)-17000)/1000,$H13+$F13*(I$11-100))","v":200.90353641447058},{"$f":"IF($A$7=\"Succion\",$H13+((-8700)*($E$36)-17000)/1000,$H13+$F13*(J$11-100))","v":208.23613943156403},{"$f":"IF($A$7=\"Succion\",$H13+((-8700)*($E$39)-17000)/1000,$H13+$F13*(K$11-100))","v":204.86130588029147},null,null,null,null,null,null,null,null,null,null,null,null,null,null,null,null,null,null,null,null,null,null,null,"Module dynamique EB = ",{"$f":"O25","v":950.93279921608666},"MPa",null,null,-23]
[null,null,null,null,null,{"$f":"(0.00003*G14+0.0206)*('Paramètres - Données - Calculs'!$G$10-113.636)+0.31818","v":-0.37915687346161375},150,{"$f":"'Paramètres - Données - Calculs'!$G$15*G14+'Paramètres - Données - Calculs'!$G$16","v":225.76934538228016},247.86383909419331,256.10189525920924,252.31032652459314,null,null,"PG","δ","α","β","γ","a1","a2",null,"T enrobé",null,"Vitesse",null,null,null,null,null,null,null,null,null,null,"Vie en fatigue estimée",{"$f":"Feuil3!AA50","v":5.8603972623887941},"MÉCAS",null,null,-22]
[{"$f":"IF(('Paramètres - Données - Calculs'!B6>=60)*AND('Paramètres - Données - Calculs'!B7<60),1,0)","v":0},{"$f":"IF(A15=1,(10^(((60-'Paramètres - Données - Calculs'!B7)/('Paramètres - Données - Calculs'!B6-'Paramètres - Données - Calculs'!B7))*(LOG('Paramètres - Données - Calculs'!A6/'Paramètres - Données - Calculs'!A7))+LOG('Paramètres - Données - Calculs'!A7))),0)","v":0},{"$f":"IF(('Paramètres - Données - Calculs'!B6>=10)*AND('Paramètres - Données - Calculs'!B7<10),1,0)","v":0},{"$f":"IF(C15=1,(10^(((10-'Paramètres - Données - Calculs'!B7)/('Paramètres - Données - Calculs'!B6-'Paramètres - Données - Calculs'!B7))*(LOG('Paramètres - Données - Calculs'!A6/'Paramètres - Données - Calculs'!A7))+LOG('Paramètres - Données - Calculs'!A7))),0)","v":0},null,{"$f":"(0.00003*G15+0.0206)*('Paramètres - Données - Calculs'!$G$10-113.636)+0.31818","v":-0.42083039179597304},200,{"$f":"'Paramètres - Données - Calculs'!$G$15*G15+'Paramètres - Données - Calculs'!$G$16","v":270.30121974317672},294.8241417739161,303.96765108685457,299.75934716889481,null,null,"58-28",-0.42199999999999999,4.97,-1.76,-0.42199999999999999,-0.14899999999999999,6.4599999999999998E-4,null,{"$f":"(($V$32*(1+1/($X$32/3+4))-34/($X$32/3+4)+6)-32)*5/9","v":34.018445322793156},null,{"$f":"'Paramètres - Données - Calculs'!$D$18","v":30},"km/h",null,"Profondeur ds F",null,"Mr départ",null,null,null,null,null,null,null,null,null,null,-21]
[{"$f":"IF(('Paramètres - Données - Calculs'!B7>=60)*AND('Paramètres - Données - Calculs'!B8<60),1,0)","v":0},{"$f":"IF(A16=1,(10^(((60-'Paramètres - Données - Calculs'!B8)/('Paramètres - Données - Calculs'!B7-'Paramètres - Données - Calculs'!B8))*(LOG('Paramètres - Données - Calculs'!A7/'Paramètres - Données - Calculs'!A8))+LOG('Paramètres - Données - Calculs'!A8))),0)","v":0},{"$f":"IF(('Paramètres - Données - Calculs'!B7>=10)*AND('Paramètres - Données - Calculs'!B8<10),1,0)","v":0},{"$f":"IF(C16=1,(10^(((10-'Paramètres - Données - Calculs'!B8)/('Paramètres - Données - Calculs'!B7-'Paramètres - Données - Calculs'!B8))*(LOG('Paramètres - Données - Calculs'!A7/'Paramètres - Données - Calculs'!A8))+LOG('Paramètres - Données - Calculs'!A8))),0)","v":0},null,{"$f":"(0.00003*G16+0.0206)*('Paramètres - Données - Calculs'!$G$10-113.636)+0.31818","v":-0.46250391013033243},250,{"$f":"'Paramètres - Données - Calculs'!$G$15*G16+'Paramètres - Données - Calculs'!$G$16","v":314.83309410407321},341.78444445363886,351.83340691449979,347.2083678131965,null,null,"58-34",0.215,4.29,-1.32,-0.39800000000000002,-0.14599999999999999,7.9500000000000003E-4,null,"F enrobé",null,{"$f":"1000*1000*$X$15/60/60","v":8333.3333333333339},"mm/s",null,{"$f":"AA26","v":12.5},null,643.6748441378511,null,null,{"$f":"AH26","v":643.6749524039185},{"$f":"AA16","v":12.5},null,{"$f":"AB12","v":250},null,{"$f":"IF(($AI$17>AG16)*AND($AI$17<AG17),1,\"\")","v":""},{"$f":"IF(AK16=1,((AF17-AF16)/(AG17-AG16)),\"\")","v":""},{"$f":"IF(AK16=1,(AF16+($AI$17-AG16)*AL16),\"\")","v":""},-20]
[{"$f":"IF(('Paramètres - Données - Calculs'!B8>=60)*AND('Paramètres - Données - Calculs'!B9<60),1,0)","v":0},{"$f":"IF(A17=1,(10^(((60-'Paramètres - Données - Calculs'!B9)/('Paramètres - Données - Calculs'!B8-'Paramètres - Données - Calculs'!B9))*(LOG('Paramètres - Données - Calculs'!A8/'Paramètres - Données - Calculs'!A9))+LOG('Paramètres - Données - Calculs'!A9))),0)","v":0},{"$f":"IF(('Paramètres - Données - Calculs'!B8>=10)*AND('Paramètres - Données - Calculs'!B9<10),1,0)","v":0},{"$f":"IF(C17=1,(10^(((10-'Paramètres - Données - Calculs'!B9)/('Paramètres - Données - Calculs'!B8-'Paramètres - Données - Calculs'!B9))*(LOG('Paramètres - Données - Calculs'!A8/'Paramètres - Données - Calculs'!A9))+LOG('Paramètres - Données - Calculs'!A9))),0)","v":0},null,{"$f":"(0.00003*G17+0.0206)*('Paramètres - Données - Calculs'!$G$10-113.636)+0.31818","v":-0.50417742846469193},300,{"$f":"'Paramètres - Données - Calculs'!$G$15*G17+'Paramètres - Données - Calculs'!$G$16","v":359.36496846496971},388.74474713336156,399.69916274214506,394.65738845749814,null,null,"64-28",-7.1999999999999995E-2,4.63,-1.68,-0.32400000000000001,-0.151,6.8800000000000003E-4,null,{"$f":"1/$X$29","v":16.666664460864002},null,{"$f":"$X$15*0.62137111","v":18.6411333},"mph",null,{"$f":"$AB$12/5/2","v":25},null,586.95507685193547,null,null,586.95518965850783,{"$f":"$AB$12/5/2","v":25},null,{"$f":"AI16/3","v":83.333333333333329},null,{"$f":"IF(($AI$17>AG17)*AND($AI$17<AG18),1,\"\")","v":""},{"$f":"IF(AK17=1,((AF18-AF17)/(AG18-AG17)),\"\")","v":""},{"$f":"IF(AK17=1,(AF17+($AI$17-AG17)*AL17),\"\")","v":""},-19]
[{"$f":"IF(('Paramètres - Données - Calculs'!B9>=60)*AND('Paramètres - Données - Calculs'!B10<60),1,0)","v":0},{"$f":"IF(A18=1,(10^(((60-'Paramètres - Données - Calculs'!B10)/('Paramètres - Données - Calculs'!B9-'Paramètres - Données - Calculs'!B10))*(LOG('Paramètres - Données - Calculs'!A9/'Paramètres - Données - Calculs'!A10))+LOG('Paramètres - Données - Calculs'!A10))),0)","v":0},{"$f":"IF(('Paramètres - Données - Calculs'!B9>=10)*AND('Paramètres - Données - Calculs'!B10<10),1,0)","v":0},{"$f":"IF(C18=1,(10^(((10-'Paramètres - Données - Calculs'!B10)/('Paramètres - Données - Calculs'!B9-'Paramètres - Données - Calculs'!B10))*(LOG('Paramètres - Données - Calculs'!A9/'Paramètres - Données - Calculs'!A10))+LOG('Paramètres - Données - Calculs'!A10))),0)","v":0},null,{"$f":"(0.00003*G18+0.0206)*('Paramètres - Données - Calculs'!$G$10-113.636)+0.31818","v":-0.54585094679905133},350,{"$f":"'Paramètres - Données - Calculs'!$G$15*G18+'Paramètres - Données - Calculs'!$G$16","v":403.89684282586626},435.70504981308437,447.56491856979039,442.10640910179984,null,null,"64-34",0.63600000000000001,3.9,-1.38,-0.36899999999999999,-0.14699999999999999,6.5600000000000001E-4,null,"Log fr",null,null,null,null,{"$f":"AA17+$AB$12/5","v":75},null,428.39056423403093,null,null,428.39062492775759,{"$f":"AG17+$AB$12/5","v":75},null,null,null,1,-1.8259584158295195,413.17430479584493,-18]
[{"$f":"IF(('Paramètres - Données - Calculs'!B10>=60)*AND('Paramètres - Données - Calculs'!B11<60),1,0)","v":0},{"$f":"IF(A19=1,(10^(((60-'Paramètres - Données - Calculs'!B11)/('Paramètres - Données - Calculs'!B10-'Paramètres - Données - Calculs'!B11))*(LOG('Paramètres - Données - Calculs'!A10/'Paramètres - Données - Calculs'!A11))+LOG('Paramètres - Données - Calculs'!A11))),0)","v":0},{"$f":"IF(('Paramètres - Données - Calculs'!B10>=10)*AND('Paramètres - Données - Calculs'!B11<10),1,0)","v":0},{"$f":"IF(C19=1,(10^(((10-'Paramètres - Données - Calculs'!B11)/('Paramètres - Données - Calculs'!B10-'Paramètres - Données - Calculs'!B11))*(LOG('Paramètres - Données - Calculs'!A10/'Paramètres - Données - Calculs'!A11))+LOG('Paramètres - Données - Calculs'!A11))),0)","v":0},null,{"$f":"(0.00003*G19+0.0206)*('Paramètres - Données - Calculs'!$G$10-113.636)+0.31818","v":-0.58752446513341072},400,{"$f":"'Paramètres - Données - Calculs'!$G$15*G19+'Paramètres - Données - Calculs'!$G$16","v":448.42871718676275},482.66535249280707,495.43067439743561,489.55542974610148,null,null,"70-28",-0.22,4.7699999999999996,-1.76,-0.28299999999999997,-0.158,5.9400000000000002E-4,null,{"$f":"LOG($V$17)+$V$21","v":-1.82622018098894},null,null,null,null,{"$f":"AA18+$AB$12/5","v":125},null,337.09236189065768,null,null,337.09270413628161,{"$f":"AG18+$AB$12/5","v":125},null,null,null,"","","",-17]
[{"$f":"IF(('Paramètres - Données - Calculs'!B11>=60)*AND('Paramètres - Données - Calculs'!B12<60),1,0)","v":1},{"$f":"IF(A20=1,(10^(((60-'Paramètres - Données - Calculs'!B12)/('Paramètres - Données - Calculs'!B11-'Paramètres - Données - Calculs'!B12))*(LOG('Paramètres - Données - Calculs'!A11/'Paramètres - Données - Calculs'!A12))+LOG('Paramètres - Données - Calculs'!A12))),0)","v":7.7971870043224865},{"$f":"IF(('Paramètres - Données - Calculs'!B11>=10)*AND('Paramètres - Données - Calculs'!B12<10),1,0)","v":0},{"$f":"IF(C20=1,(10^(((10-'Paramètres - Données - Calculs'!B12)/('Paramètres - Données - Calculs'!B11-'Paramètres - Données - Calculs'!B12))*(LOG('Paramètres - Données - Calculs'!A11/'Paramètres - Données - Calculs'!A12))+LOG('Paramètres - Données - Calculs'!A12))),0)","v":0},null,{"$f":"(0.00003*G20+0.0206)*('Paramètres - Données - Calculs'!$G$10-113.636)+0.31818","v":-0.62919798346777001},450,{"$f":"'Paramètres - Données - Calculs'!$G$15*G20+'Paramètres - Données - Calculs'!$G$16","v":492.96059154765931},529.62565517252995,543.29643022508094,537.00445039040324,null,null,null,null,null,null,null,null,null,null,"Log at",null,null,null,null,{"$f":"AA19+$AB$12/5","v":175},null,281.33263444534128,null,null,281.33271654391052,{"$f":"AG19+$AB$12/5","v":175},null,null,null,"","","",-16]
[{"$f":"IF(('Paramètres - Données - Calculs'!B12>=60)*AND('Paramètres - Données - Calculs'!B13<60),1,0)","v":0},{"$f":"IF(A21=1,(10^(((60-'Paramètres - Données - Calculs'!B13)/('Paramètres - Données - Calculs'!B12-'Paramètres - Données - Calculs'!B13))*(LOG('Paramètres - Données - Calculs'!A12/'Paramètres - Données - Calculs'!A13))+LOG('Paramètres - Données - Calculs'!A13))),0)","v":0},{"$f":"IF(('Paramètres - Données - Calculs'!B12>=10)*AND('Paramètres - Données - Calculs'!B13<10),1,0)","v":0},{"$f":"IF(C21=1,(10^(((10-'Paramètres - Données - Calculs'!B13)/('Paramètres - Données - Calculs'!B12-'Paramètres - Données - Calculs'!B13))*(LOG('Paramètres - Données - Calculs'!A12/'Paramètres - Données - Calculs'!A13))+LOG('Paramètres - Données - Calculs'!A13))),0)","v":0},null,{"$f":"(0.00003*G21+0.0206)*('Paramètres - Données - Calculs'!$G$10-113.636)+0.31818","v":-0.6708715018021294},500,{"$f":"'Paramètres - Données - Calculs'!$G$15*G21+'Paramètres - Données - Calculs'!$G$16","v":537.4924659085558},576.58595785225259,591.16218605272616,584.45347103470488,null,null,null,"Valeurs de calculs en fonction du PG sélectionné",null,null,null,null,null,null,{"$f":"$S$23*($V$15-10)+$T$23*($V$15-10)^2","v":-3.048068873127217},null,null,null,null,{"$f":"AA20+$AB$12/5","v":225},null,245.50994677899106,null,null,245.50993670909068,{"$f":"AG20+$AB$12/5","v":225},null,null,null,"","","",-15]
[{"$f":"IF(('Paramètres - Données - Calculs'!B13>=60)*AND('Paramètres - Données - Calculs'!B14<60),1,0)","v":0},{"$f":"IF(A22=1,(10^(((60-'Paramètres - Données - Calculs'!B14)/('Paramètres - Données - Calculs'!B13-'Paramètres - Données - Calculs'!B14))*(LOG('Paramètres - Données - Calculs'!A13/'Paramètres - Données - Calculs'!A14))+LOG('Paramètres - Données - Calculs'!A14))),0)","v":0},{"$f":"IF(('Paramètres - Données - Calculs'!B13>=10)*AND('Paramètres - Données - Calculs'!B14<10),1,0)","v":0},{"$f":"IF(C22=1,(10^(((10-'Paramètres - Données - Calculs'!B14)/('Paramètres - Données - Calculs'!B13-'Paramètres - Données - Calculs'!B14))*(LOG('Paramètres - Données - Calculs'!A13/'Paramètres - Données - Calculs'!A14))+LOG('Paramètres - Données - Calculs'!A14))),0)","v":0},null,{"$f":"(0.00003*G22+0.0206)*('Paramètres - Données - Calculs'!$G$10-113.636)+0.31818","v":-0.71254502013648879},550,{"$f":"'Paramètres - Données - Calculs'!$G$15*G22+'Paramètres - Données - Calculs'!$G$16","v":582.0243402694523},623.54626053197535,639.02794188037137,631.90249167900652,null,null,null,"δ","α","β","γ","a1","a2",null,null,null,null,null,null,{"$f":"AA32","v":237.5},null,238.62458306444231,null,null,238.62461269932865,{"$f":"AA22","v":237.5},null,null,null,"","","",-14]
[{"$f":"IF(('Paramètres - Données - Calculs'!B14>=60)*AND('Paramètres - Données - Calculs'!B15<60),1,0)","v":0},{"$f":"IF(A23=1,(10^(((60-'Paramètres - Données - Calculs'!B15)/('Paramètres - Données - Calculs'!B14-'Paramètres - Données - Calculs'!B15))*(LOG('Paramètres - Données - Calculs'!A14/'Paramètres - Données - Calculs'!A15))+LOG('Paramètres - Données - Calculs'!A15))),0)","v":0},{"$f":"IF(('Paramètres - Données - Calculs'!B14>=10)*AND('Paramètres - Données - Calculs'!B15<10),1,0)","v":0},{"$f":"IF(C23=1,(10^(((10-'Paramètres - Données - Calculs'!B15)/('Paramètres - Données - Calculs'!B14-'Paramètres - Données - Calculs'!B15))*(LOG('Paramètres - Données - Calculs'!A14/'Paramètres - Données - Calculs'!A15))+LOG('Paramètres - Données - Calculs'!A15))),0)","v":0},null,{"$f":"(0.00003*G23+0.0206)*('Paramètres - Données - Calculs'!$G$10-113.636)+0.31818","v":-0.7542185384708483},600,{"$f":"'Paramètres - Données - Calculs'!$G$15*G23+'Paramètres - Données - Calculs'!$G$16","v":626.55621463034879},670.50656321169811,686.8936977080167,679.35151232330816,null,null,null,{"$f":"IF('Paramètres - Données - Calculs'!$D$12=\"58-28\",O15,IF('Paramètres - Données - Calculs'!$D$12=\"58-34\",O16,IF('Paramètres - Données - Calculs'!$D$12=\"64-28\",O17,IF('Paramètres - Données - Calculs'!$D$12=\"64-34\",O18,IF('Paramètres - Données - Calculs'!$D$12=\"70-28\",O19,\"\")))))","v":0.215},{"$f":"IF('Paramètres - Données - Calculs'!$D$12=\"58-28\",P15,IF('Paramètres - Données - Calculs'!$D$12=\"58-34\",P16,IF('Paramètres - Données - Calculs'!$D$12=\"64-28\",P17,IF('Paramètres - Données - Calculs'!$D$12=\"64-34\",P18,IF('Paramètres - Données - Calculs'!$D$12=\"70-28\",P19,\"\")))))","v":4.29},{"$f":"IF('Paramètres - Données - Calculs'!$D$12=\"58-28\",Q15,IF('Paramètres - Données - Calculs'!$D$12=\"58-34\",Q16,IF('Paramètres - Données - Calculs'!$D$12=\"64-28\",Q17,IF('Paramètres - Données - Calculs'!$D$12=\"64-34\",Q18,IF('Paramètres - Données - Calculs'!$D$12=\"70-28\",Q19,\"\")))))","v":-1.32},{"$f":"IF('Paramètres - Données - Calculs'!$D$12=\"58-28\",R15,IF('Paramètres - Données - Calculs'!$D$12=\"58-34\",R16,IF('Paramètres - Données - Calculs'!$D$12=\"64-28\",R17,IF('Paramètres - Données - Calculs'!$D$12=\"64-34\",R18,IF('Paramètres - Données - Calculs'!$D$12=\"70-28\",R19,\"\")))))","v":-0.39800000000000002},{"$f":"IF('Paramètres - Données - Calculs'!$D$12=\"58-28\",S15,IF('Paramètres - Données - Calculs'!$D$12=\"58-34\",S16,IF('Paramètres - Données - Calculs'!$D$12=\"64-28\",S17,IF('Paramètres - Données - Calculs'!$D$12=\"64-34\",S18,IF('Paramètres - Données - Calculs'!$D$12=\"70-28\",S19,\"\")))))","v":-0.14599999999999999},{"$f":"IF('Paramètres - Données - Calculs'!$D$12=\"58-28\",T15,IF('Paramètres - Données - Calculs'!$D$12=\"58-34\",T16,IF('Paramètres - Données - Calculs'!$D$12=\"64-28\",T17,IF('Paramètres - Données - Calculs'!$D$12=\"64-34\",T18,IF('Paramètres - Données - Calculs'!$D$12=\"70-28\",T19,\"\")))))","v":7.9500000000000003E-4},null,null,null,"Zeff",null,null,null,"Contraintes",null,null,null,null,null,null,null,null,null,null,{"$f":"SUM(AM16:AM22)","v":413.17430479584493},-13]
[{"$f":"IF(('Paramètres - Données - Calculs'!B15>=60)*AND('Paramètres - Données - Calculs'!B16<60),1,0)","v":0},{"$f":"IF(A24=1,(10^(((60-'Paramètres - Données - Calculs'!B16)/('Paramètres - Données - Calculs'!B15-'Paramètres - Données - Calculs'!B16))*(LOG('Paramètres - Données - Calculs'!A15/'Paramètres - Données - Calculs'!A16))+LOG('Paramètres - Données - Calculs'!A16))),0)","v":0},{"$f":"IF(('Paramètres - Données - Calculs'!B15>=10)*AND('Paramètres - Données - Calculs'!B16<10),1,0)","v":0},{"$f":"IF(C24=1,(10^(((10-'Paramètres - Données - Calculs'!B16)/('Paramètres - Données - Calculs'!B15-'Paramètres - Données - Calculs'!B16))*(LOG('Paramètres - Données - Calculs'!A15/'Paramètres - Données - Calculs'!A16))+LOG('Paramètres - Données - Calculs'!A16))),0)","v":0},null,{"$f":"(0.00003*G24+0.0206)*('Paramètres - Données - Calculs'!$G$10-113.636)+0.31818","v":-0.79589205680520758},650,{"$f":"'Paramètres - Données - Calculs'!$G$15*G24+'Paramètres - Données - Calculs'!$G$16","v":671.0880889912454},717.46686589142098,734.75945353566203,726.80053296760991,null,null,null,null,null,null,null,null,null,null,null,null,null,null,null,null,"Statique",null,null,"Cyclique",null,null,null,null,null,null,null,null,-12]
[{"$f":"IF(('Paramètres - Données - Calculs'!B16>=60)*AND('Paramètres - Données - Calculs'!B17<60),1,0)","v":0},{"$f":"IF(A25=1,(10^(((60-'Paramètres - Données - Calculs'!B17)/('Paramètres - Données - Calculs'!B16-'Paramètres - Données - Calculs'!B17))*(LOG('Paramètres - Données - Calculs'!A16/'Paramètres - Données - Calculs'!A17))+LOG('Paramètres - Données - Calculs'!A17))),0)","v":0},{"$f":"IF(('Paramètres - Données - Calculs'!B16>=10)*AND('Paramètres - Données - Calculs'!B17<10),1,0)","v":1},{"$f":"IF(C25=1,(10^(((10-'Paramètres - Données - Calculs'!B17)/('Paramètres - Données - Calculs'!B16-'Paramètres - Données - Calculs'!B17))*(LOG('Paramètres - Données - Calculs'!A16/'Paramètres - Données - Calculs'!A17))+LOG('Paramètres - Données - Calculs'!A17))),0)","v":0.18952548882150347},null,{"$f":"(0.00003*G25+0.0206)*('Paramètres - Données - Calculs'!$G$10-113.636)+0.31818","v":-0.83756557513956686},700,{"$f":"'Paramètres - Données - Calculs'!$G$15*G25+'Paramètres - Données - Calculs'!$G$16","v":715.61996335214189},764.42716857114374,782.62520936330725,774.24955361191155,null,null,"Mod. Dyn.",{"$f":"10^($O$23+$P$23/(1+EXP($Q$23+$R$23*$V$19)))","v":950.93279921608666},null,null,"Coeff. Poisson EB",{"$f":"0.15+0.35/(1+EXP(-1.63+0.00000384*$O$25))","v":0.44248407804176426},null,null,null,null,"Leff",null,null,"Profondeur ds F","sig1","sig3","Prof eq","sig1","sig3","Theta","Mr","Résidus",null,null,null,null,-11]
[{"$f":"IF(('Paramètres - Données - Calculs'!B17>=60)*AND('Paramètres - Données - Calculs'!B18<60),1,0)","v":0},{"$f":"IF(A26=1,(10^(((60-'Paramètres - Données - Calculs'!B18)/('Paramètres - Données - Calculs'!B17-'Paramètres - Données - Calculs'!B18))*(LOG('Paramètres - Données - Calculs'!A17/'Paramètres - Données - Calculs'!A18))+LOG('Paramètres - Données - Calculs'!A18))),0)","v":0},{"$f":"IF(('Paramètres - Données - Calculs'!B17>=10)*AND('Paramètres - Données - Calculs'!B18<10),1,0)","v":0},{"$f":"IF(C26=1,(10^(((10-'Paramètres - Données - Calculs'!B18)/('Paramètres - Données - Calculs'!B17-'Paramètres - Données - Calculs'!B18))*(LOG('Paramètres - Données - Calculs'!A17/'Paramètres - Données - Calculs'!A18))+LOG('Paramètres - Données - Calculs'!A18))),0)","v":0},null,null,null,null,null,null,null,null,null,null,null,null,null,null,null,null,null,null,null,{"$f":"2*('Paramètres - Données - Calculs'!$D$17+$AB$11)","v":500},"mm",null,{"$f":"AA27/2","v":12.5},{"$f":"24.0345*$AB$11/1000+($X$11*9.81/1000)*($AA$26/1000)","v":2.6707532289799532},{"$f":"0.5*AB26","v":1.3353766144899766},{"$f":"$AB$36+AA26","v":167.92694955881765},{"$f":"(1-(AD26^3/((AD26^2+'Paramètres - Données - Calculs'!$D$17^2)^1.5)))*('Paramètres - Données - Calculs'!$D$16/(PI()*('Paramètres - Données - Calculs'!$D$17/1000)^2))","v":413.93253785038212},{"$f":"((1+2*$AD$11)-(2*(1+$AD$11)*AD26)/((AD26^2+'Paramètres - Données - Calculs'!$D$17^2)^0.5)+(AD26^3/((AD26^2+'Paramètres - Données - Calculs'!$D$17^2)^1.5)))*('Paramètres - Données - Calculs'!$D$16/(PI()*('Paramètres - Données - Calculs'!$D$17/1000)^2))","v":71.565666839751202},{"$f":"(AB26+AE26)+2*(AC26+AF26)","v":562.40537798784442},{"$f":"IF($A$7=\"Succion\",('Paramètres - Données - Calculs'!$G$15*AG26+'Paramètres - Données - Calculs'!$G$16)+((-8700)*($E$39)-17000)/1000,('Paramètres - Données - Calculs'!$G$15*AG26+'Paramètres - Données - Calculs'!$G$16)+('Paramètres - Données - Calculs'!$G$17-100)*((0.00003*AG26+0.0206)*('Paramètres - Données - Calculs'!$G$10-113.636)+0.31818))","v":643.6749524039185},{"$f":"(AC16-AH26)^2","v":1.172154135028495E-8},null,null,null,null,-10]
[{"$f":"IF(('Paramètres - Données - Calculs'!B18>=60)*AND('Paramètres - Données - Calculs'!B19<60),1,0)","v":0},{"$f":"IF(A27=1,(10^(((60-'Paramètres - Données - Calculs'!B19)/('Paramètres - Données - Calculs'!B18-'Paramètres - Données - Calculs'!B19))*(LOG('Paramètres - Données - Calculs'!A18/'Paramètres - Données - Calculs'!A19))+LOG('Paramètres - Données - Calculs'!A19))),0)","v":0},{"$f":"IF(('Paramètres - Données - Calculs'!B18>=10)*AND('Paramètres - Données - Calculs'!B19<10),1,0)","v":0},{"$f":"IF(C27=1,(10^(((10-'Paramètres - Données - Calculs'!B19)/('Paramètres - Données - Calculs'!B18-'Paramètres - Données - Calculs'!B19))*(LOG('Paramètres - Données - Calculs'!A18/'Paramètres - Données - Calculs'!A19))+LOG('Paramètres - Données - Calculs'!A19))),0)","v":0},null,null,null,null,null,null,"Log fr",null,null,"log at",null,1,10,100,null,null,null,null,null,{"$f":"$X$26/25.4","v":19.685039370078741},"po",null,{"$f":"$AB$12/5/2","v":25},{"$f":"24.0345*$AB$11/1000+($X$11*9.81/1000)*($AA$27/1000)","v":2.938056457959906},1.469028228979953,180.42694955881765,{"$f":"(1-(AD27^3/((AD27^2+'Paramètres - Données - Calculs'!$D$17^2)^1.5)))*('Paramètres - Données - Calculs'!$D$16/(PI()*('Paramètres - Données - Calculs'!$D$17/1000)^2))","v":385.72283198673443},{"$f":"((1+2*$AD$11)-(2*(1+$AD$11)*AD27)/((AD27^2+'Paramètres - Données - Calculs'!$D$17^2)^0.5)+(AD27^3/((AD27^2+'Paramètres - Données - Calculs'!$D$17^2)^1.5)))*('Paramètres - Données - Calculs'!$D$16/(PI()*('Paramètres - Données - Calculs'!$D$17/1000)^2))","v":55.518636220797454},502.63621734424919,{"$f":"IF($A$7=\"Succion\",('Paramètres - Données - Calculs'!$G$15*AG27+'Paramètres - Données - Calculs'!$G$16)+((-8700)*($E$39)-17000)/1000,('Paramètres - Données - Calculs'!$G$15*AG27+'Paramètres - Données - Calculs'!$G$16)+('Paramètres - Données - Calculs'!$G$17-100)*((0.00003*AG27+0.0206)*('Paramètres - Données - Calculs'!$G$10-113.636)+0.31818))","v":586.95518965850783},1.2725322767740218E-8,null,null,null,null,-9]
[null,{"$f":"SUM(B13:B27)","v":7.7971870043224865},null,{"$f":"SUM(D13:D27)","v":0.18952548882150347},null,null,null,null,null,null,{"$f":"$N28+LOG(P$27)","v":7.1120000000000001},{"$f":"$N28+LOG(Q$27)","v":8.1120000000000001},{"$f":"$N28+LOG(R$27)","v":9.1120000000000001},{"$f":"$S$23*(O28-10)+$T$23*(O28-10)^2","v":7.1120000000000001},-30,{"$f":"10^($O$23+$P$23/(1+EXP($Q$23+$R$23*K28)))","v":27444.668445039038},{"$f":"10^($O$23+$P$23/(1+EXP($Q$23+$R$23*L28)))","v":28845.460364268551},{"$f":"10^($O$23+$P$23/(1+EXP($Q$23+$R$23*M28)))","v":29834.801201591516},null,null,null,null,null,"t",null,null,{"$f":"AA27+$AB$12/5","v":75},{"$f":"24.0345*$AB$11/1000+($X$11*9.81/1000)*($AA$28/1000)","v":4.0072693738797174},2.0036346869398587,230.42694955881765,{"$f":"(1-(AD28^3/((AD28^2+'Paramètres - Données - Calculs'!$D$17^2)^1.5)))*('Paramètres - Données - Calculs'!$D$16/(PI()*('Paramètres - Données - Calculs'!$D$17/1000)^2))","v":290.98071978958268},{"$f":"((1+2*$AD$11)-(2*(1+$AD$11)*AD28)/((AD28^2+'Paramètres - Données - Calculs'!$D$17^2)^0.5)+(AD28^3/((AD28^2+'Paramètres - Données - Calculs'!$D$17^2)^1.5)))*('Paramètres - Données - Calculs'!$D$16/(PI()*('Paramètres - Données - Calculs'!$D$17/1000)^2))","v":18.275781021047234},335.54682057943654,{"$f":"IF($A$7=\"Succion\",('Paramètres - Données - Calculs'!$G$15*AG28+'Paramètres - Données - Calculs'!$G$16)+((-8700)*($E$39)-17000)/1000,('Paramètres - Données - Calculs'!$G$15*AG28+'Paramètres - Données - Calculs'!$G$16)+('Paramètres - Données - Calculs'!$G$17-100)*((0.00003*AG28+0.0206)*('Paramètres - Données - Calculs'!$G$10-113.636)+0.31818))","v":428.39062492775759},3.6837284549703906E-9,null,null,null,null,-8]
[null,null,null,null,null,null,null,null,null,null,5.0954999999999995,6.0954999999999995,7.0954999999999995,5.0954999999999995,{"$f":"O28+10","v":-20},22872.297290542105,25470.76478830132,27417.409180090643,null,null,null,null,null,{"$f":"X27/(17.6*X17)","v":6.0000007940890644E-2},null,null,{"$f":"AA28+$AB$12/5","v":125},{"$f":"24.0345*$AB$11/1000+($X$11*9.81/1000)*($AA$29/1000)","v":5.0764822897995288},2.5382411448997644,280.42694955881768,{"$f":"(1-(AD29^3/((AD29^2+'Paramètres - Données - Calculs'!$D$17^2)^1.5)))*('Paramètres - Données - Calculs'!$D$16/(PI()*('Paramètres - Données - Calculs'!$D$17/1000)^2))","v":222.38280708728658},{"$f":"((1+2*$AD$11)-(2*(1+$AD$11)*AD29)/((AD29^2+'Paramètres - Données - Calculs'!$D$17^2)^0.5)+(AD29^3/((AD29^2+'Paramètres - Données - Calculs'!$D$17^2)^1.5)))*('Paramètres - Données - Calculs'!$D$16/(PI()*('Paramètres - Données - Calculs'!$D$17/1000)^2))","v":3.4023604964307386},239.34049265974713,{"$f":"IF($A$7=\"Succion\",('Paramètres - Données - Calculs'!$G$15*AG29+'Paramètres - Données - Calculs'!$G$16)+((-8700)*($E$39)-17000)/1000,('Paramètres - Données - Calculs'!$G$15*AG29+'Paramètres - Données - Calculs'!$G$16)+('Paramètres - Données - Calculs'!$G$17-100)*((0.00003*AG29+0.0206)*('Paramètres - Données - Calculs'!$G$10-113.636)+0.31818))","v":337.09270413628161},1.1713206709675289E-7,null,null,null,null,-7]
[null,null,null,null,null,null,null,null,null,null,3.238,4.2379999999999995,5.2379999999999995,3.238,-10,16247.846699742448,20083.629902194523,23285.438471953912,null,null,null,null,null,null,null,null,{"$f":"AA29+$AB$12/5","v":175},{"$f":"24.0345*$AB$11/1000+($X$11*9.81/1000)*($AA$30/1000)","v":6.1456952057193401},3.0728476028596701,330.42694955881768,{"$f":"(1-(AD30^3/((AD30^2+'Paramètres - Données - Calculs'!$D$17^2)^1.5)))*('Paramètres - Données - Calculs'!$D$16/(PI()*('Paramètres - Données - Calculs'!$D$17/1000)^2))","v":173.31439040362301},{"$f":"((1+2*$AD$11)-(2*(1+$AD$11)*AD30)/((AD30^2+'Paramètres - Données - Calculs'!$D$17^2)^0.5)+(AD30^3/((AD30^2+'Paramètres - Données - Calculs'!$D$17^2)^1.5)))*('Paramètres - Données - Calculs'!$D$16/(PI()*('Paramètres - Données - Calculs'!$D$17/1000)^2))","v":-2.5115368531119913},180.5827071088377,{"$f":"IF($A$7=\"Succion\",('Paramètres - Données - Calculs'!$G$15*AG30+'Paramètres - Données - Calculs'!$G$16)+((-8700)*($E$39)-17000)/1000,('Paramètres - Données - Calculs'!$G$15*AG30+'Paramètres - Données - Calculs'!$G$16)+('Paramètres - Données - Calculs'!$G$17-100)*((0.00003*AG30+0.0206)*('Paramètres - Données - Calculs'!$G$10-113.636)+0.31818))","v":281.33271654391052},6.7401750707842098E-9,null,null,null,null,-6]
[null,null,null,null,null,null,null,null,null,null,1.5394999999999999,2.5394999999999999,3.5394999999999999,1.5394999999999999,0,9173.408512807342,13330.956227126613,17459.194794514464,null,null,"Tair (°C)",{"$f":"'Paramètres - Données - Calculs'!$D$13","v":26},"Épaisseur (mm)",{"$f":"'Paramètres - Données - Calculs'!$D$14","v":100},null,null,{"$f":"AA30+$AB$12/5","v":225},{"$f":"24.0345*$AB$11/1000+($X$11*9.81/1000)*($AA$31/1000)","v":7.2149081216391524},3.6074540608195762,380.42694955881768,{"$f":"(1-(AD31^3/((AD31^2+'Paramètres - Données - Calculs'!$D$17^2)^1.5)))*('Paramètres - Données - Calculs'!$D$16/(PI()*('Paramètres - Données - Calculs'!$D$17/1000)^2))","v":137.84584528079967},{"$f":"((1+2*$AD$11)-(2*(1+$AD$11)*AD31)/((AD31^2+'Paramètres - Données - Calculs'!$D$17^2)^0.5)+(AD31^3/((AD31^2+'Paramètres - Données - Calculs'!$D$17^2)^1.5)))*('Paramètres - Données - Calculs'!$D$16/(PI()*('Paramètres - Données - Calculs'!$D$17/1000)^2))","v":-4.7208287476460589},142.83400402878584,{"$f":"IF($A$7=\"Succion\",('Paramètres - Données - Calculs'!$G$15*AG31+'Paramètres - Données - Calculs'!$G$16)+((-8700)*($E$39)-17000)/1000,('Paramètres - Données - Calculs'!$G$15*AG31+'Paramètres - Données - Calculs'!$G$16)+('Paramètres - Données - Calculs'!$G$17-100)*((0.00003*AG31+0.0206)*('Paramètres - Données - Calculs'!$G$10-113.636)+0.31818))","v":245.50993670909068},1.0140289373903068E-10,null,null,null,null,-5]
[null,null,null,null,null,{"$f":"$I$11","v":41.727302711947239},null,null,null,null,0,1,2,0,10,3986.4793701456711,7118.1441732741778,11056.164052444961,null,null,"(°F)",{"$f":"9*V31/5+32","v":78.8},"(in)",{"$f":"X31/25.4","v":3.9370078740157481},null,null,{"$f":"AA31+$AB$12/5/4","v":237.5},{"$f":"24.0345*$AB$11/1000+($X$11*9.81/1000)*($AA$32/1000)","v":7.4822113506191048},3.7411056753095524,392.92694955881768,{"$f":"(1-(AD32^3/((AD32^2+'Paramètres - Données - Calculs'!$D$17^2)^1.5)))*('Paramètres - Données - Calculs'!$D$16/(PI()*('Paramètres - Données - Calculs'!$D$17/1000)^2))","v":130.57251250576218},{"$f":"((1+2*$AD$11)-(2*(1+$AD$11)*AD32)/((AD32^2+'Paramètres - Données - Calculs'!$D$17^2)^0.5)+(AD32^3/((AD32^2+'Paramètres - Données - Calculs'!$D$17^2)^1.5)))*('Paramètres - Données - Calculs'!$D$16/(PI()*('Paramètres - Données - Calculs'!$D$17/1000)^2))","v":-4.9792138103916361},135.57850758621711,{"$f":"IF($A$7=\"Succion\",('Paramètres - Données - Calculs'!$G$15*AG32+'Paramètres - Données - Calculs'!$G$16)+((-8700)*($E$39)-17000)/1000,('Paramètres - Données - Calculs'!$G$15*AG32+'Paramètres - Données - Calculs'!$G$16)+('Paramètres - Données - Calculs'!$G$17-100)*((0.00003*AG32+0.0206)*('Paramètres - Données - Calculs'!$G$10-113.636)+0.31818))","v":238.62461269932865},8.7822648872701087E-10,null,null,null,null,-4]
[null,null,null,null,null,{"$f":"ROUND(K11,0)","v":30},null,null,null,null,-1.3805000000000001,-0.38050000000000006,0.61949999999999994,-1.3805000000000001,20,1405.4817020249197,3074.5095059748105,5808.7957641027378,null,null,null,null,null,null,null,null,null,null,null,null,null,null,null,"RMSE",{"$f":"(SUM(AI26:AI32)/COUNT(AI26:AI32))^0.5","v":1.4783314152062439E-4},null,null,null,null,-3]
[null,null,null,null,null,null,null,null,null,null,-2.6019999999999999,-1.6019999999999999,-0.60199999999999987,-2.6019999999999999,30,460.23938942845746,1160.7532157840644,2616.9000789337838,null,null,null,null,null,null,null,null,null,null,null,null,null,null,null,null,null,null,null,null,null,-2]
[null,null,null,null,null,null,null,null,null,null,-3.6644999999999999,-2.6644999999999999,-1.6644999999999999,-3.6644999999999999,40,162.82710281708918,433.30427212616041,1098.6133058979772,null,null,null,null,null,null,null,null,"f",{"$f":"IF('Paramètres - Données - Calculs'!$D$17>$AB$11,1.1,1)","v":1.1000000000000001},null,null,null,null,null,null,null,null,null,null,null,-1]
["Valeur succion",null,"Sr (%)",20,{"$f":"$C$123","v":-15.850450224642248},"kPa",null,null,null,null,-4.5679999999999996,-3.5679999999999996,-2.5679999999999996,-4.5679999999999996,50,68.643866910514461,178.96611772598723,475.54705278343255,null,null,null,null,null,"Formule Brown 1973",null,null,"Heq EB en F",{"$f":"$AB$35*$AB$11*(($AC$11/$AC$12)*((1-$AD$12^2)/(1-$AD$11^2)))^0.333333333333333","v":155.42694955881765},null,"a2+z2 0,5",{"$f":"($AB$36^2+'Paramètres - Données - Calculs'!$D$17^2)^0.5","v":216.00355702895089},null,null,null,null,null,null,null,null,0]
[null,null,"Sr (%)",100,{"$f":"$C$43","v":-1.954},"kPa",null,null,null,null,null,null,null,null,null,null,null,null,null,null,null,null,null,{"$f":"1/(10^(0.5*0.33333*$AB$11/1000-0.2-0.94*LOG($X$15)))","v":37.310191612555514},null,null,null,null,null,"a2+z2 1,5",{"$f":"($AB$36^2+'Paramètres - Données - Calculs'!$D$17^2)^1.5","v":10078193.878427045},null,null,null,null,null,null,null,null,1]
[null,null,"Sropt(%)",{"$f":"ROUND($F$32,0)","v":42},{"$f":"SUM(G43:G142)","v":-4.2899635452628493},"kPa",null,null,null,null,null,null,null,null,null,null,null,null,null,null,null,null,null,null,null,null,null,null,null,"z3",{"$f":"AB36^3","v":3754732.2302341629},null,null,null,null,null,null,null,null,2]
[null,null,"Sreval(%)",{"$f":"$F$33","v":30},{"$f":"SUM(H43:H142)","v":-9.2136410102042365},"kPa",null,null,null,null,null,null,null,null,null,null,null,null,null,null,null,null,null,null,null,null,"eps bas rev",{"$f":"((1+$AD$12)*(PI()*('Paramètres - Données - Calculs'!$D$17/1000/2)^2)/(2*$AC$12))*((1-2*$AD$12)-(2*$AB$36*(1-$AD$12))/(('Paramètres - Données - Calculs'!$D$17^2+$AB$36^2)^0.5)+($AB$36^3)/(($AB$36^2+'Paramètres - Données - Calculs'!$D$17^2)^1.5))","v":-9.3016343185169385E-6},null,"2(1-u)z",{"$f":"2*(1-$AD$12)*$AB$36","v":202.05503442646295},null,null,null,null,null,null,null,null,3]
[null,null,null,null,null,null,null,null,null,null,null,null,null,null,-50,-17.78,null,0.15,null,null,null,null,null,null,null,null,null,{"$f":"-1*AB39*1000000","v":9.301634318516939},null,"(1-2u)",{"$f":"(1-2*$AD$12)","v":0.30000000000000004},null,null,null,null,null,null,null,null,4]
["Modèle Doucet Doré",null,null,null,null,null,null,null,null,null,null,null,null,null,-17.78,4.4400000000000004,null,0.2,null,null,null,null,null,null,null,null,null,null,null,null,null,null,null,null,null,null,null,null,null,5]
["Saturation",null,"Succion",null,null,null,null,null,null,null,null,null,null,null,4.4400000000000004,21.11,null,0.25,null,null,null,null,null,null,null,null,null,null,null,null,{"$f":"AE40-$AE$39/$AE$36+$AE$38/$AE$37","v":-0.2628645382391705},null,null,null,null,null,null,null,null,6]
[100,{"$f":"57.483*EXP((-(C43))/(-21.879))+38.353*EXP((-(C43))/(-1.596))-7.858","v":55.988057626731916},-1.954,null,{"$f":"(A43-B43)^2","v":1937.0510714678708},null,{"$f":"IF($D$38=A43,C43,\"\")","v":""},{"$f":"IF($D$39=A43,C43,\"\")","v":""},null,null,null,null,null,null,21.11,37.78,null,0.35,null,null,null,null,null,null,null,null,null,null,null,null,{"$f":"((1+$AD$12)*(('Paramètres - Données - Calculs'!$D$16/(PI()*('Paramètres - Données - Calculs'!$D$17/1000)^2))/1000)/(2*$AC$12))","v":1.4164213825484449E-3},null,null,null,null,null,null,null,null,7]
[{"$f":"A43-1","v":99},55.988057626731916,-1.954,null,1850.0271867213346,null,"","",null,null,null,null,null,null,37.78,54.44,null,0.45,null,null,null,null,null,null,null,null,"(E/E')^b",{"$f":"($AC$11/3000)^(-0.85)","v":2.6553740907881012},null,"eps tension",{"$f":"1000000*AE43*AE42","v":-372.32695267568442},null,null,null,null,null,null,null,null,8]
[98,55.988057626731916,-1.954,null,1765.0033019747984,null,"","",null,null,null,null,null,null,54.44,70,null,0.48,null,null,null,null,null,null,null,null,null,null,null,null,null,null,null,null,null,null,null,null,null,9]
[97,55.988057626731916,-1.954,null,1681.9794172282623,null,"","",null,null,null,null,null,null,null,null,null,null,null,null,null,null,null,null,null,null,{"$f":"(-1)*$AE$44/240","v":1.5513623028153518},null,null,null,null,null,null,null,null,null,null,null,null,10]
[96,55.988057626731916,-1.954,null,1600.9555324817261,null,"","",null,null,null,null,null,null,{"$f":"IF(($V$15>O40)*AND($V$15<P40),R40,IF(($V$15>O41)*AND($V$15<P41),R41,IF(($V$15>O42)*AND($V$15<P42),R42,IF(($V$15>O43)*AND($V$15<P43),R43,IF(($V$15>O44)*AND($V$15<P44),R44,IF(($V$15>O45)*AND($V$15<P45),R45,0.48))))))","v":0.35},null,null,null,null,null,null,null,null,null,null,null,{"$f":"AA46/AB44","v":0.58423493254576253},null,null,null,null,null,null,null,null,null,null,null,null,11]
[95,55.988057626731916,-1.954,null,1521.9316477351899,null,"","",null,null,null,null,null,null,null,null,null,null,null,null,null,null,null,null,null,null,{"$f":"LOG(AA47)","v":-0.23341247927225633},null,null,null,null,null,null,null,null,null,null,null,null,12]
[94,55.988057626731916,-1.954,null,1444.9077629886538,null,"","",null,null,null,null,null,null,null,null,null,null,null,null,null,null,null,null,null,null,{"$f":"AA48/(-1/3.29)","v":0.76792705680572337},null,null,null,null,null,null,null,null,null,null,null,null,13]
[93,55.988057626731916,-1.954,null,1369.8838782421176,null,"","",null,null,null,null,null,null,null,null,null,null,null,null,null,null,null,null,null,null,{"$f":"10^AA49","v":5.8603972623887941},null,null,null,null,null,null,null,null,null,null,null,null,14]
[92,55.988057626731916,-1.954,null,1296.8599934955814,null,"","",null,null,null,null,null,null,null,null,null,null,null,null,null,null,null,null,null,null,{"$f":"AA50*1000000","v":5860397.2623887938},null,null,null,null,null,null,null,null,null,null,null,null,15]
[91,55.988057626731916,-1.954,null,1225.8361087490453,null,"","",null,null,null,null,null,null,null,null,null,null,null,null,null,null,null,null,null,null,null,null,null,null,null,null,null,null,null,null,null,null,null,16]
[90,55.988057626731916,-1.954,null,1156.8122240025091,null,"","",null,null,null,null,null,null,null,null,null,null,null,null,null,null,null,null,null,null,null,null,null,null,null,null,null,null,null,null,null,null,null,17]
[89,55.988057626731916,-1.954,null,1089.7883392559729,null,"","",null,null,null,null,null,null,null,null,null,null,null,null,null,null,null,null,null,null,null,null,null,null,null,null,null,null,null,null,null,null,null,18]
[88,55.988057626731916,-1.954,null,1024.7644545094367,null,"","",null,null,null,null,null,null,null,null,null,null,null,null,null,null,null,null,null,null,null,null,null,null,null,null,null,null,null,null,null,null,null,19]
[87,55.988057626731916,-1.954,null,961.74056976290046,null,"","",null,null,null,null,null,null,null,null,null,null,null,null,null,null,null,null,null,null,null,null,null,null,null,null,null,null,null,null,null,null,null,20]
[86,55.988057626731916,-1.954,null,900.71668501636429,null,"","",null,null,null,null,null,null,null,null,null,null,null,null,null,null,null,null,null,null,null,null,null,null,null,null,null,null,null,null,null,null,null,21]
[85,55.988057626731916,-1.954,null,841.69280026982813,null,"","",null,null,null,null,null,null,null,null,null,null,null,null,null,null,null,null,null,null,null,null,null,null,null,null,null,null,null,null,null,null,null,22]
[84,55.988057626731916,-1.954,null,784.66891552329196,null,"","",null,null,null,null,null,null,null,null,null,null,null,null,null,null,null,null,null,null,null,null,null,null,null,null,null,null,null,null,null,null,null,23]
[83,55.988057626731916,-1.954,null,729.64503077675579,null,"","",null,null,null,null,null,null,null,null,null,null,null,null,null,null,null,null,null,null,null,null,null,null,null,null,null,null,null,null,null,null,null,{"$f":"AN59+1","v":24}]
[82,55.988057626731916,-1.954,null,676.62114603021962,null,"","",null,null,null,null,null,null,null,null,null,null,null,null,null,null,null,null,null,null,null,null,null,null,null,null,null,null,null,null,null,null,null,25]
[81,55.988057626731916,-1.954,null,625.59726128368345,null,"","",null,null,null,null,null,null,null,null,null,null,null,null,null,null,null,null,null,null,null,null,null,null,null,null,null,null,null,null,null,null,null,26]
[80,55.988057626731916,-1.954,null,576.57337653714728,null,"","",null,null,null,null,null,null,null,null,null,null,null,null,null,null,null,null,null,null,null,null,null,null,null,null,null,null,null,null,null,null,null,27]
[79,55.988057626731916,-1.954,null,529.54949179061111,null,"","",null,null,null,null,null,null,null,null,null,null,null,null,null,null,null,null,null,null,null,null,null,null,null,null,null,null,null,null,null,null,null,28]
[78,55.988057626731916,-1.954,null,484.525607044075,null,"","",null,null,null,null,null,null,null,null,null,null,null,null,null,null,null,null,null,null,null,null,null,null,null,null,null,null,null,null,null,null,null,29]
[77,55.988057626731916,-1.954,null,441.50172229753883,null,"","",null,null,null,null,null,null,null,null,null,null,null,null,null,null,null,null,null,null,null,null,null,null,null,null,null,null,null,null,null,null,null,30]
[76,55.988057626731916,-1.954,null,400.47783755100266,null,"","",null,null,null,null,null,null,null,null,null,null,null,null,null,null,null,null,null,null,null,null,null,null,null,null,null,null,null,null,null,null,null,{"$f":"AN66+1","v":31}]
[75,55.988057626731916,-1.954,null,361.4539528044665,null,"","",null,null,null,null,null,null,null,null,null,null,null,null,null,null,null,null,null,null,null,null,null,null,null,null,null,null,null,null,null,null,null,32]
[74,55.988057626731916,-1.954,null,324.43006805793033,null,"","",null,null,null,null,null,null,null,null,null,null,null,null,null,null,null,null,null,null,null,null,null,null,null,null,null,null,null,null,null,null,null,{"$f":"AN68+1","v":33}]
[73,55.988057626731916,-1.954,null,289.40618331139416,null,"","",null,null,null,null,null,null,null,null,null,null,null,null,null,null,null,null,null,null,null,null,null,null,null,null,null,null,null,null,null,null,null,{"$f":"AN69+1","v":34}]
[72,55.988057626731916,-1.954,null,256.38229856485799,null,"","",null,null,null,null,null,null,null,null,null,null,null,null,null,null,null,null,null,null,null,null,null,null,null,null,null,null,null,null,null,null,null,35]
[71,55.988057626731916,-1.954,null,225.35841381832179,null,"",""]
[70,55.988057626731916,-1.954,null,196.33452907178562,null,"",""]
[69,55.988057626731916,-1.954,null,169.31064432524946,null,"",""]
[68,{"$f":"57.483*EXP((-(C75))/(-21.879))+38.353*EXP((-(C75))/(-1.596))-7.858","v":55.988057626731916},-1.954,null,{"$f":"(A75-B75)^2","v":144.28675957871329},null,{"$f":"IF($D$38=A75,C75,\"\")","v":""},{"$f":"IF($D$39=A75,C75,\"\")","v":""}]
[{"$f":"A75-1","v":67},55.988057626731916,-1.954,null,121.26287483217713,null,"",""]
[66,55.988057626731916,-1.954,null,100.23899008564096,null,"",""]
[65,55.988057626731916,-1.954,null,81.215105339104795,null,"",""]
[64,55.988057626731916,-1.954,null,64.191220592568627,null,"",""]
[63,55.988057626731916,-1.954,null,49.167335846032458,null,"",""]
[62,55.988057626731916,-1.954,null,36.143451099496289,null,"",""]
[61,55.988057626731916,-1.954,null,25.119566352960117,null,"",""]
[60,55.988057626731916,-1.954,null,16.095681606423948,null,"",""]
[59,55.988057626731916,-1.954,null,9.0717968598877796,null,"",""]
[58,55.988057626731916,-1.954,null,4.0479121133516118,null,"",""]
[57,55.988057626731916,-1.954,null,1.0240273668154429,null,"",""]
[56,56.007272820505733,-1.951971265381883,null,5.2893918108611567E-5,null,"",""]
[55,54.984642613660931,-2.0627638886079258,null,2.3584931516742387E-4,null,"",""]
[54,53.988571888224833,-2.176552574472836,null,1.3060173874571837E-4,null,"",""]
[53,52.990465688489365,-2.2969429175379643,null,9.0903095981818515E-5,null,"",""]
[52,51.997273936957399,-2.4236833017309451,null,7.4314197122370261E-6,null,"",""]
[51,50.987947323088086,-2.5602873108935724,null,1.4526702074298015E-4,null,"",""]
[50,49.992893874005958,-2.7034477227303273,null,5.0497026643201467E-5,null,"",""]
[49,48.998125588579974,-2.855869360886703,null,3.5134181715238061E-6,null,"",""]
[48,48.005533649782379,-3.0182043571243273,null,3.0621279914020968E-5,null,"",""]
[47,46.991211365352157,-3.1958014549779188,null,7.7240098973261904E-5,null,"",""]
[46,45.999907158940047,-3.3820335306589042,null,8.6194624131547884E-9,null,"",""]
[45,45.013003755357509,-3.5812046144084704,null,1.6909765339795198E-4,null,"",""]
[44,44.015146093544985,-3.7980123643480437,null,2.2940414967342874E-4,null,"",""]
[43,43.028322445164122,-4.0292233500653882,null,8.021609000746833E-4,null,"",""]
[42,41.998889935642872,-4.2899635452628493,null,1.2322428769665274E-6,null,-4.2899635452628493,""]
[41,41.040390042943386,-4.5522831289821948,null,1.6313555689685738E-3,null,"",""]
[40,39.976324020322146,-4.8673744471669815,null,5.605520137061692E-4,null,"",""]
[39,39.035879184802504,-5.1681813524297731,null,1.2873159020921994E-3,null,"",""]
[38,37.990699984755643,-5.528393239303445,null,8.6490283545263841E-5,null,"",""]
[37,36.988087537540942,-5.9004901949220985,null,1.419067618384734E-4,null,"",""]
[36,{"$f":"57.483*EXP((-(C107))/(-21.879))+38.353*EXP((-(C107))/(-1.596))-7.858","v":35.993455893180737},-6.2958025561572892,null,{"$f":"(A107-B107)^2","v":4.2825334061919943E-5},null,{"$f":"IF($D$38=A107,C107,\"\")","v":""},{"$f":"IF($D$39=A107,C107,\"\")","v":""}]
[{"$f":"A107-1","v":35},34.971272590523427,-6.7292461844340004,null,8.2526405523472405E-4,null,"",""]
[34,33.996765842126294,-7.1677286914270235,null,1.045977715205495E-5,null,"",""]
[33,33.026829326675838,-7.627940557373253,null,7.1981276987881674E-4,null,"",""]
[32,32.026402623989483,-8.1265648423740267,null,6.9709855353003545E-4,null,"",""]
[31,31.004185991249809,-8.660132081214428,null,1.7522522743477569E-5,null,"",""]
[30,29.988118323837408,-9.2136410102042365,null,1.4117422843269516E-4,null,"",-9.2136410102042365]
[29,28.988235106947922,-9.7801049333589631,null,1.3841270852683207E-4,null,"",""]
[28,27.999143272465307,-10.361211546159703,null,7.3398206870059826E-7,null,"",""]
[27,27.010507326147671,-10.962463774986661,null,1.1040390277353356E-4,null,"",""]
[26,26.014074120046867,-11.589168171975716,null,1.9808085509363701E-4,null,"",""]
[25,25.007115600639867,-12.243953491606216,null,5.0631772466081081E-5,null,"",""]
[24,23.993045977370592,-12.925785342522884,null,4.8358430730318966E-5,null,"",""]
[23,22.979570630208102,-13.630584815602464,null,4.1735915009413359E-4,null,"",""]
[22,21.974833021402077,-14.353486083348804,null,6.3337681174832248E-4,null,"",""]
[21,20.982714920244678,-15.09224671142438,null,2.9877398214783122E-4,null,"",""]
[20,19.99934490617046,-15.850450224642248,null,4.2914792550107557E-7,null,"",""]
[19,19.01351736156602,-16.638207757720487,null,1.8271906370651505E-4,null,"",""]
[18,18.012791272856628,-17.468211761441811,null,1.6361666129270709E-4,null,"",""]
[17,16.99317728903911,-18.347725466857067,null,4.6549384855846116E-5,null,"",""]
[16,15.965517834682014,-19.271574382410872,null,1.1890197250168922E-3,null,"",""]
[15,14.951346781321551,-20.223287716815637,null,2.367135687773018E-3,null,"",""]
[14,13.967407180099691,-21.188006672915421,null,1.0622919090539596E-3,null,"",""]
[13,13.007753361132309,-22.171778972368166,null,6.0114608848000934E-5,null,"",""]
[12,12.03996773790551,-23.210831182455582,null,1.5974200732835322E-3,null,"",""]
[11,11.030190112913274,-24.350295782419778,null,9.1144291771626056E-4,null,"",""]
[10,9.9856710272604872,-25.594942574342557,null,2.0531945976970197E-4,null,"",""]
[9,8.9568386551123602,-26.89427091549619,null,1.862901692509789E-3,null,"",""]
[8,7.974235776296088,-28.2116840656468,null,6.6379522306521887E-4,null,"",""]
[7,7.0106391831345247,-29.585550283376293,null,1.1319221776995528E-4,null,"",""]
[6,6.0188354914356124,-31.095929636909432,null,3.5477573762102664E-4,null,"",""]
[5,4.9868300813822239,-32.786728484598797,null,1.7344675639884436E-4,null,"",""]
[4,{"$f":"57.483*EXP((-(C139))/(-21.879))+38.353*EXP((-(C139))/(-1.596))-7.858","v":3.962561439058125},-34.604892853239733,null,1.4016458453984908E-3,null,"",""]
[3,3.0057960376897013,-36.45158356045242,null,3.3594052900437663E-5,null,"",""]
[2,2.0408226485864693,-38.486767495392556,null,1.6664886376143667E-3,null,"",""]
[1,0.9624066864293388,-41.010463041103947,null,1.4132572252220598E-3,null,"",""]
[]
[null,null,null,null,{"$f":"(SUM(E43:E142)/COUNT(E43:E142))^0.5","v":17.144584488447187}]